BEGIN:VCALENDAR
VERSION:2.0
PRODID:-//AMURJC - ECPv6.15.20//NONSGML v1.0//EN
CALSCALE:GREGORIAN
METHOD:PUBLISH
X-ORIGINAL-URL:https://www.amurjc.org
X-WR-CALDESC:Eventos para AMURJC
REFRESH-INTERVAL;VALUE=DURATION:PT1H
X-Robots-Tag:noindex
X-PUBLISHED-TTL:PT1H
BEGIN:VTIMEZONE
TZID:Europe/Madrid
BEGIN:DAYLIGHT
TZOFFSETFROM:+0100
TZOFFSETTO:+0200
TZNAME:CEST
DTSTART:20240331T010000
END:DAYLIGHT
BEGIN:STANDARD
TZOFFSETFROM:+0200
TZOFFSETTO:+0100
TZNAME:CET
DTSTART:20241027T010000
END:STANDARD
BEGIN:DAYLIGHT
TZOFFSETFROM:+0100
TZOFFSETTO:+0200
TZNAME:CEST
DTSTART:20250330T010000
END:DAYLIGHT
BEGIN:STANDARD
TZOFFSETFROM:+0200
TZOFFSETTO:+0100
TZNAME:CET
DTSTART:20251026T010000
END:STANDARD
BEGIN:DAYLIGHT
TZOFFSETFROM:+0100
TZOFFSETTO:+0200
TZNAME:CEST
DTSTART:20260329T010000
END:DAYLIGHT
BEGIN:STANDARD
TZOFFSETFROM:+0200
TZOFFSETTO:+0100
TZNAME:CET
DTSTART:20261025T010000
END:STANDARD
END:VTIMEZONE
BEGIN:VEVENT
DTSTART;TZID=Europe/Madrid:20250313T114500
DTEND;TZID=Europe/Madrid:20250313T133000
DTSTAMP:20260421T122436
CREATED:20250224T080006Z
LAST-MODIFIED:20250224T080006Z
UID:10388-1741866300-1741872600@www.amurjc.org
SUMMARY:Visita la Planta de Migas Calientes y conoce el destino de los residuos vegetales
DESCRIPTION:
URL:https://www.amurjc.org/actividades/visita-la-planta-de-migas-calientes-y-conoce-el-destino-de-los-residuos-vegetales/
LOCATION:Planta de transformación de residuos vegetales de Migas Calientes\, AUTOVIA M-30\, 2200\, MADRID\, MADRID\, 28040\, Spain
ATTACH;FMTTYPE=image/jpeg:https://www.amurjc.org/wp-content/uploads/2025/02/planta-compostaje.jpg
END:VEVENT
BEGIN:VEVENT
DTSTART;TZID=Europe/Madrid:20250321T220000
DTEND;TZID=Europe/Madrid:20250321T220000
DTSTAMP:20260421T122436
CREATED:20250127T113600Z
LAST-MODIFIED:20250127T113600Z
UID:10303-1742594400-1742594400@www.amurjc.org
SUMMARY:¡Risas aseguradas! No te pierdas La madre que me parió en el Teatro Lara
DESCRIPTION:
URL:https://www.amurjc.org/actividades/risas-aseguradas-no-te-pierdas-la-madre-que-me-pario-en-el-teatro-lara/
ATTACH;FMTTYPE=image/jpeg:https://www.amurjc.org/wp-content/uploads/2025/01/la-madre-que-me-pario.jpg
END:VEVENT
END:VCALENDAR