BEGIN:VCALENDAR
VERSION:2.0
PRODID:-//AMURJC - ECPv6.15.20//NONSGML v1.0//EN
CALSCALE:GREGORIAN
METHOD:PUBLISH
X-ORIGINAL-URL:https://www.amurjc.org
X-WR-CALDESC:Eventos para AMURJC
REFRESH-INTERVAL;VALUE=DURATION:PT1H
X-Robots-Tag:noindex
X-PUBLISHED-TTL:PT1H
BEGIN:VTIMEZONE
TZID:Europe/Madrid
BEGIN:DAYLIGHT
TZOFFSETFROM:+0100
TZOFFSETTO:+0200
TZNAME:CEST
DTSTART:20230326T010000
END:DAYLIGHT
BEGIN:STANDARD
TZOFFSETFROM:+0200
TZOFFSETTO:+0100
TZNAME:CET
DTSTART:20231029T010000
END:STANDARD
BEGIN:DAYLIGHT
TZOFFSETFROM:+0100
TZOFFSETTO:+0200
TZNAME:CEST
DTSTART:20240331T010000
END:DAYLIGHT
BEGIN:STANDARD
TZOFFSETFROM:+0200
TZOFFSETTO:+0100
TZNAME:CET
DTSTART:20241027T010000
END:STANDARD
BEGIN:DAYLIGHT
TZOFFSETFROM:+0100
TZOFFSETTO:+0200
TZNAME:CEST
DTSTART:20250330T010000
END:DAYLIGHT
BEGIN:STANDARD
TZOFFSETFROM:+0200
TZOFFSETTO:+0100
TZNAME:CET
DTSTART:20251026T010000
END:STANDARD
END:VTIMEZONE
BEGIN:VEVENT
DTSTART;TZID=Europe/Madrid:20241213T200000
DTEND;TZID=Europe/Madrid:20241213T220000
DTSTAMP:20260419T220516
CREATED:20241119T110118Z
LAST-MODIFIED:20241119T110118Z
UID:10198-1734120000-1734127200@www.amurjc.org
SUMMARY:¡Una noche de teatro imperdible!
DESCRIPTION:
URL:https://www.amurjc.org/actividades/una-noche-de-teatro-imperdible/
ATTACH;FMTTYPE=image/jpeg:https://www.amurjc.org/wp-content/uploads/2024/11/una-terapia-integral33-e1731997141992.jpg
END:VEVENT
BEGIN:VEVENT
DTSTART;TZID=Europe/Madrid:20241213T100000
DTEND;TZID=Europe/Madrid:20241213T120000
DTSTAMP:20260419T220516
CREATED:20241121T122506Z
LAST-MODIFIED:20241121T122506Z
UID:10215-1734084000-1734091200@www.amurjc.org
SUMMARY:Visita Guiada al Senado: Descubre el Corazón de la Democracia Española
DESCRIPTION:
URL:https://www.amurjc.org/actividades/visita-guiada-al-senado-descubre-el-corazon-de-la-democracia-espanola/
ATTACH;FMTTYPE=image/jpeg:https://www.amurjc.org/wp-content/uploads/2024/11/1024px-Senado_de_Espana_edificio_nuevo_03.jpg
END:VEVENT
BEGIN:VEVENT
DTSTART;TZID=Europe/Madrid:20241203T110000
DTEND;TZID=Europe/Madrid:20241203T130000
DTSTAMP:20260419T220516
CREATED:20241119T102017Z
LAST-MODIFIED:20241119T102017Z
UID:10196-1733223600-1733230800@www.amurjc.org
SUMMARY:¡Visita al Congreso de los Diputados!
DESCRIPTION:
URL:https://www.amurjc.org/actividades/visita-al-congreso-de-los-diputados/
ATTACH;FMTTYPE=image/jpeg:https://www.amurjc.org/wp-content/uploads/2024/11/congreso-de-los-diputados-madrid.jpg
END:VEVENT
BEGIN:VEVENT
DTSTART;TZID=Europe/Madrid:20241129T110000
DTEND;TZID=Europe/Madrid:20241129T123000
DTSTAMP:20260419T220516
CREATED:20241119T195730Z
LAST-MODIFIED:20241119T195730Z
UID:10206-1732878000-1732883400@www.amurjc.org
SUMMARY:Explorando el cielo y la ciencia: visita al Real Observatorio de Madrid
DESCRIPTION:
URL:https://www.amurjc.org/actividades/explorando-el-cielo-y-la-ciencia-visita-al-real-observatorio-de-madrid/
ATTACH;FMTTYPE=image/jpeg:https://www.amurjc.org/wp-content/uploads/2024/11/Real_Observatorio_Madrid.jpg
END:VEVENT
BEGIN:VEVENT
DTSTART;TZID=Europe/Madrid:20241127T134500
DTEND;TZID=Europe/Madrid:20241127T150000
DTSTAMP:20260419T220516
CREATED:20241111T095443Z
LAST-MODIFIED:20241119T110437Z
UID:10154-1732715100-1732719600@www.amurjc.org
SUMMARY:Explorando la moda con Lorenzo Caprile
DESCRIPTION:
URL:https://www.amurjc.org/actividades/explorando-la-moda-con-lorenzo-caprile/
ATTACH;FMTTYPE=image/jpeg:https://www.amurjc.org/wp-content/uploads/2024/11/lorenzo-caprile.jpg
END:VEVENT
BEGIN:VEVENT
DTSTART;TZID=Europe/Madrid:20241125T080000
DTEND;TZID=Europe/Madrid:20241125T170000
DTSTAMP:20260419T220516
CREATED:20241120T193409Z
LAST-MODIFIED:20241120T193409Z
UID:10212-1732521600-1732554000@www.amurjc.org
SUMMARY:Alcarria: Historia\, miel y estrellas
DESCRIPTION:
URL:https://www.amurjc.org/actividades/alcarria-historia-miel-y-estrellas/
ATTACH;FMTTYPE=image/jpeg:https://www.amurjc.org/wp-content/uploads/2024/11/1440px-Palacio_del_Infantado.jpg
END:VEVENT
BEGIN:VEVENT
DTSTART;TZID=Europe/Madrid:20241120T163000
DTEND;TZID=Europe/Madrid:20241120T183000
DTSTAMP:20260419T220516
CREATED:20241108T113427Z
LAST-MODIFIED:20241108T113427Z
UID:10148-1732120200-1732127400@www.amurjc.org
SUMMARY:¡Descubre los Secretos de la Grecia Clásica en el Museo Arqueológico de Madrid!
DESCRIPTION:
URL:https://www.amurjc.org/actividades/descubre-los-secretos-de-la-grecia-clasica-en-el-museo-arqueologico-de-madrid/
ATTACH;FMTTYPE=image/jpeg:https://www.amurjc.org/wp-content/uploads/2024/11/grecia-clasica-scaled-e1731064081851.jpg
END:VEVENT
BEGIN:VEVENT
DTSTART;TZID=Europe/Madrid:20241115T100000
DTEND;TZID=Europe/Madrid:20241115T130000
DTSTAMP:20260419T220516
CREATED:20241031T095357Z
LAST-MODIFIED:20241031T095357Z
UID:10125-1731664800-1731675600@www.amurjc.org
SUMMARY:Visita exclusiva a la Biblioteca Histórica Municipal
DESCRIPTION:
URL:https://www.amurjc.org/actividades/visita-exclusiva-a-la-biblioteca-historica-municipal/
ATTACH;FMTTYPE=image/jpeg:https://www.amurjc.org/wp-content/uploads/2024/10/depositos-biblioteca.jpg
END:VEVENT
BEGIN:VEVENT
DTSTART;TZID=Europe/Madrid:20241113T110000
DTEND;TZID=Europe/Madrid:20241113T133000
DTSTAMP:20260419T220516
CREATED:20241029T165241Z
LAST-MODIFIED:20241029T165241Z
UID:10117-1731495600-1731504600@www.amurjc.org
SUMMARY:Descubre la Quinta de la Fuente del Berro
DESCRIPTION:
URL:https://www.amurjc.org/actividades/descubre-la-quinta-de-la-fuente-del-berro/
ATTACH;FMTTYPE=image/jpeg:https://www.amurjc.org/wp-content/uploads/2024/10/Fuente_de_El_Berro.jpg
END:VEVENT
BEGIN:VEVENT
DTSTART;TZID=Europe/Madrid:20241112T193000
DTEND;TZID=Europe/Madrid:20241112T210000
DTSTAMP:20260419T220516
CREATED:20241107T122412Z
LAST-MODIFIED:20241107T122412Z
UID:10139-1731439800-1731445200@www.amurjc.org
SUMMARY:Charla Culinaria con el Chef Jesús Manzaneque
DESCRIPTION:
URL:https://www.amurjc.org/actividades/charla-culinaria-con-el-chef-jesus-manzaneque/
ATTACH;FMTTYPE=image/jpeg:https://www.amurjc.org/wp-content/uploads/2024/11/charlas-gastronomicas.jpg
END:VEVENT
BEGIN:VEVENT
DTSTART;TZID=Europe/Madrid:20241108T120000
DTEND;TZID=Europe/Madrid:20241108T133000
DTSTAMP:20260419T220516
CREATED:20241029T164738Z
LAST-MODIFIED:20241029T170521Z
UID:10115-1731067200-1731072600@www.amurjc.org
SUMMARY:Visita guiada Museo de astronomía y Geodesia
DESCRIPTION:
URL:https://www.amurjc.org/actividades/visita-guiada-museo-de-astronomia-y-geodesia/
ATTACH;FMTTYPE=image/jpeg:https://www.amurjc.org/wp-content/uploads/2024/10/museo-de-astronomia-y-geodesia_14_alta_72ppp.jpeg
END:VEVENT
BEGIN:VEVENT
DTSTART;TZID=Europe/Madrid:20241106T081500
DTEND;TZID=Europe/Madrid:20241106T204500
DTSTAMP:20260419T220516
CREATED:20241015T142428Z
LAST-MODIFIED:20241015T143021Z
UID:10092-1730880900-1730925900@www.amurjc.org
SUMMARY:Excursión en autobús a los Tesoros Inesperados del sur de Toledo
DESCRIPTION:
URL:https://www.amurjc.org/actividades/excursion-en-autobus-a-los-tesoros-inesperados-del-sur-de-toledo/
ATTACH;FMTTYPE=image/jpeg:https://www.amurjc.org/wp-content/uploads/2024/10/Paolo_Monti_-_Servizio_fotografico_-_BEIC_6333073.jpg
END:VEVENT
BEGIN:VEVENT
DTSTART;TZID=Europe/Madrid:20241030T130000
DTEND;TZID=Europe/Madrid:20241030T180000
DTSTAMP:20260419T220516
CREATED:20241029T170949Z
LAST-MODIFIED:20241029T171011Z
UID:10119-1730293200-1730311200@www.amurjc.org
SUMMARY:Descubre la Historia de Madrid
DESCRIPTION:
URL:https://www.amurjc.org/actividades/descubre-la-historia-de-madrid/
ATTACH;FMTTYPE=image/jpeg:https://www.amurjc.org/wp-content/uploads/2024/10/1024px-Museo_de_Historia_de_Madrid_Espana_06.jpg
END:VEVENT
BEGIN:VEVENT
DTSTART;TZID=Europe/Madrid:20241025T100000
DTEND;TZID=Europe/Madrid:20241025T120000
DTSTAMP:20260419T220516
CREATED:20240822T073208Z
LAST-MODIFIED:20240926T160900Z
UID:9617-1729850400-1729857600@www.amurjc.org
SUMMARY:Visita al Invernadero de Arganzuela
DESCRIPTION:
URL:https://www.amurjc.org/actividades/visita-al-invernadero-de-arganzuela/
ATTACH;FMTTYPE=image/jpeg:https://www.amurjc.org/wp-content/uploads/2024/09/1440px-Entrada_Invernadero_ElMatadero_Aganzuela_2012-9-01.jpg
END:VEVENT
BEGIN:VEVENT
DTSTART;TZID=Europe/Madrid:20241021T110000
DTEND;TZID=Europe/Madrid:20241021T123000
DTSTAMP:20260419T220516
CREATED:20240822T175053Z
LAST-MODIFIED:20240926T160936Z
UID:9842-1729508400-1729513800@www.amurjc.org
SUMMARY:Tribunal Constitucional
DESCRIPTION:
URL:https://www.amurjc.org/actividades/tribunal-constitucional/
ATTACH;FMTTYPE=image/png:https://www.amurjc.org/wp-content/uploads/2024/08/tribunal-constitucional.png
END:VEVENT
BEGIN:VEVENT
DTSTART;TZID=Europe/Madrid:20241016T170000
DTEND;TZID=Europe/Madrid:20241016T183000
DTSTAMP:20260419T220516
CREATED:20241015T142713Z
LAST-MODIFIED:20241015T142733Z
UID:10094-1729098000-1729103400@www.amurjc.org
SUMMARY:Los secretos mejor guardados de Malasaña
DESCRIPTION:
URL:https://www.amurjc.org/actividades/los-secretos-mejor-guardados-de-malasana/
ATTACH;FMTTYPE=image/jpeg:https://www.amurjc.org/wp-content/uploads/2024/10/1024px-Madrid_-_Malasana_Plaza_Juan_Pujol_1.jpg
END:VEVENT
BEGIN:VEVENT
DTSTART;TZID=Europe/Madrid:20241014T100000
DTEND;TZID=Europe/Madrid:20241014T120000
DTSTAMP:20260419T220516
CREATED:20240926T165306Z
LAST-MODIFIED:20240926T165306Z
UID:10039-1728900000-1728907200@www.amurjc.org
SUMMARY:Visita Guiada al Palacio de la Bolsa de Madrid
DESCRIPTION:
URL:https://www.amurjc.org/actividades/visita-guiada-al-palacio-de-la-bolsa-de-madrid/
ATTACH;FMTTYPE=image/jpeg:https://www.amurjc.org/wp-content/uploads/2024/09/Palacio_de_la_Bolsa_de_Madrid_Espana_03.jpg
END:VEVENT
BEGIN:VEVENT
DTSTART;TZID=Europe/Madrid:20241009T110000
DTEND;TZID=Europe/Madrid:20241009T123000
DTSTAMP:20260419T220516
CREATED:20240822T174810Z
LAST-MODIFIED:20240923T071422Z
UID:9838-1728471600-1728477000@www.amurjc.org
SUMMARY:Residencia de Estudiantes
DESCRIPTION:
URL:https://www.amurjc.org/actividades/residencia-de-estudiantes/
ATTACH;FMTTYPE=image/jpeg:https://www.amurjc.org/wp-content/uploads/2024/09/1280px-Residencia_de_Estudiantes_Madrid_07.jpg
END:VEVENT
BEGIN:VEVENT
DTSTART;TZID=Europe/Madrid:20241001T183000
DTEND;TZID=Europe/Madrid:20241001T190000
DTSTAMP:20260419T220516
CREATED:20240923T071214Z
LAST-MODIFIED:20240923T071214Z
UID:9942-1727807400-1727809200@www.amurjc.org
SUMMARY:Convocatoria Asamblea General
DESCRIPTION:
URL:https://www.amurjc.org/actividades/convocatoria-asamblea-general/
ATTACH;FMTTYPE=image/jpeg:https://www.amurjc.org/wp-content/uploads/2024/09/pexels-jibarofoto-2774556.jpg
END:VEVENT
END:VCALENDAR