BEGIN:VCALENDAR
VERSION:2.0
PRODID:-//AMURJC - ECPv6.15.20//NONSGML v1.0//EN
CALSCALE:GREGORIAN
METHOD:PUBLISH
X-WR-CALNAME:AMURJC
X-ORIGINAL-URL:https://www.amurjc.org
X-WR-CALDESC:Eventos para AMURJC
REFRESH-INTERVAL;VALUE=DURATION:PT1H
X-Robots-Tag:noindex
X-PUBLISHED-TTL:PT1H
BEGIN:VTIMEZONE
TZID:Europe/Madrid
BEGIN:DAYLIGHT
TZOFFSETFROM:+0100
TZOFFSETTO:+0200
TZNAME:CEST
DTSTART:20250330T010000
END:DAYLIGHT
BEGIN:STANDARD
TZOFFSETFROM:+0200
TZOFFSETTO:+0100
TZNAME:CET
DTSTART:20251026T010000
END:STANDARD
BEGIN:DAYLIGHT
TZOFFSETFROM:+0100
TZOFFSETTO:+0200
TZNAME:CEST
DTSTART:20260329T010000
END:DAYLIGHT
BEGIN:STANDARD
TZOFFSETFROM:+0200
TZOFFSETTO:+0100
TZNAME:CET
DTSTART:20261025T010000
END:STANDARD
BEGIN:DAYLIGHT
TZOFFSETFROM:+0100
TZOFFSETTO:+0200
TZNAME:CEST
DTSTART:20270328T010000
END:DAYLIGHT
BEGIN:STANDARD
TZOFFSETFROM:+0200
TZOFFSETTO:+0100
TZNAME:CET
DTSTART:20271031T010000
END:STANDARD
END:VTIMEZONE
BEGIN:VEVENT
DTSTART;TZID=Europe/Madrid:20260512T110000
DTEND;TZID=Europe/Madrid:20260512T130000
DTSTAMP:20260423T104912
CREATED:20260421T140759Z
LAST-MODIFIED:20260421T140759Z
UID:10977-1778583600-1778590800@www.amurjc.org
SUMMARY:Ruta 2 de mayo. 2ª parte Cuartel Parque de Monteleón
DESCRIPTION:Segunda parte de nuestra visita guiada por el Madrid del levantamiento del 2 de mayo de 1808. \nEl Cuartel de Monteleón o Parque de Artillería de Monteleón (y antes Palacio de Monteleón)\, se encontraba en el corazón del barrio de Maravillas de Madrid\, ocupando un espacio urbano que luego fue modificado en la segunda mitad del siglo XIX. Allí combatieron los capitanes Luis Daoíz y Pedro Velarde y sus tenientes Jacinto Ruiz y Rafael Arango\, al enfrentarse a las tropas francesas de ocupación\, en la jornada del 2 de mayo de 1808.
URL:https://www.amurjc.org/actividades/ruta-2-de-mayo-2a-parte-cuartel-parque-de-monteleon/
ATTACH;FMTTYPE=image/jpeg:https://www.amurjc.org/wp-content/uploads/2026/02/monumento-daoiz-y-velarde.jpg
END:VEVENT
BEGIN:VEVENT
DTSTART;TZID=Europe/Madrid:20260524T200000
DTEND;TZID=Europe/Madrid:20260524T213000
DTSTAMP:20260423T104912
CREATED:20260412T111755Z
LAST-MODIFIED:20260412T111755Z
UID:10965-1779652800-1779658200@www.amurjc.org
SUMMARY:Asesinato para dos: el musical
DESCRIPTION:El oficial Marcus Moscowitz sueña con convertirse en detective. Una fatídica noche\, el famoso novelista Arthur Whitney es asesinado en el salón de su casa. Es la oportunidad perfecta para demostrar su infalible instinto y descubrir al asesino…el problema es que hay doce sospechosos. ¿Quién pudo haber cometido el crimen? ¿Su viuda\, Dahlía? ¿su pśicólogo\, el Dr. Griff? ¿la famosa bailarina Paulette Lewis? ¿sus insufribles vecinos Harry y Anne? Marcus Moscowitz (Mikel Herzog) tiene poco más de una hora para interrogar a los doce sospechosos (Didac Flores) y resolver el crimen. \nDos actores interpretan a trece personajes\, y\, además\, tocan el piano. Un ingenioso homenaje a las clásicas películas de suspense en un desternillante musical para no parar de reír. La adaptación y la dirección general están a cargo de Zenón recalde (el rey leon\, histeria del arte\, ¡payaso!) y la dirección musical de Gaby Goldman (Matilda\, Billy Eliot\, West Side Story)
URL:https://www.amurjc.org/actividades/asesinato-para-dos-el-musical/
ATTACH;FMTTYPE=image/jpeg:https://www.amurjc.org/wp-content/uploads/2026/04/asesinato-para-dos.jpeg
END:VEVENT
END:VCALENDAR