BEGIN:VCALENDAR
VERSION:2.0
PRODID:-//AMURJC - ECPv6.15.20//NONSGML v1.0//EN
CALSCALE:GREGORIAN
METHOD:PUBLISH
X-WR-CALNAME:AMURJC
X-ORIGINAL-URL:https://www.amurjc.org
X-WR-CALDESC:Eventos para AMURJC
REFRESH-INTERVAL;VALUE=DURATION:PT1H
X-Robots-Tag:noindex
X-PUBLISHED-TTL:PT1H
BEGIN:VTIMEZONE
TZID:Europe/Madrid
BEGIN:DAYLIGHT
TZOFFSETFROM:+0100
TZOFFSETTO:+0200
TZNAME:CEST
DTSTART:20250330T010000
END:DAYLIGHT
BEGIN:STANDARD
TZOFFSETFROM:+0200
TZOFFSETTO:+0100
TZNAME:CET
DTSTART:20251026T010000
END:STANDARD
BEGIN:DAYLIGHT
TZOFFSETFROM:+0100
TZOFFSETTO:+0200
TZNAME:CEST
DTSTART:20260329T010000
END:DAYLIGHT
BEGIN:STANDARD
TZOFFSETFROM:+0200
TZOFFSETTO:+0100
TZNAME:CET
DTSTART:20261025T010000
END:STANDARD
BEGIN:DAYLIGHT
TZOFFSETFROM:+0100
TZOFFSETTO:+0200
TZNAME:CEST
DTSTART:20270328T010000
END:DAYLIGHT
BEGIN:STANDARD
TZOFFSETFROM:+0200
TZOFFSETTO:+0100
TZNAME:CET
DTSTART:20271031T010000
END:STANDARD
END:VTIMEZONE
BEGIN:VEVENT
DTSTART;TZID=Europe/Madrid:20260327T110000
DTEND;TZID=Europe/Madrid:20260327T130000
DTSTAMP:20260421T122049
CREATED:20260225T130621Z
LAST-MODIFIED:20260225T130621Z
UID:10886-1774609200-1774616400@www.amurjc.org
SUMMARY:Visita guiada Residencia de Estudiantes
DESCRIPTION:Visita guiada con vídeo explicativo a un lugar único que rezuma cultura por cada inhalación. \n\n\nBajo la dirección de Alberto Jiménez Fraud\, fue creada por la Junta para Ampiación de Estudios e Investigaciones Científicas (JAE)\, un organismo público nacido en 1907 y presidido por Santiago Ramón y Cajal\, con José Castillejo como secretario y principal ejecutor. Su objetivo era establecer una corriente de comunicación científica con los paises más avanzados\, enviando profesionales a formarse al extranjero y fundando nuevas instituciones científicas y educativas en España\, entre ellas la Residencia de Estudiantes.
URL:https://www.amurjc.org/actividades/visita-guiada-residencia-de-estudiantes/
ATTACH;FMTTYPE=image/jpeg:https://www.amurjc.org/wp-content/uploads/2024/09/1280px-Residencia_de_Estudiantes_Madrid_07.jpg
END:VEVENT
BEGIN:VEVENT
DTSTART;TZID=Europe/Madrid:20260327T163000
DTEND;TZID=Europe/Madrid:20260327T183000
DTSTAMP:20260421T122049
CREATED:20260317T191517Z
LAST-MODIFIED:20260317T191517Z
UID:10925-1774629000-1774636200@www.amurjc.org
SUMMARY:Torneo de Mus Intergeneracional
DESCRIPTION:¿Te gusta el mus o te apetece disfrutar de una tarde diferente entre cartas\, estrategia y buen ambiente? \nEnigmat y AMURJC te invitan a participar en un emocionante Torneo de Mus intergeneracional\, una oportunidad perfecta para compartir mesa\, aprender unos de otros y poner a prueba tu habilidad en uno de los juegos de cartas más tradicionales. \nEl torneo tendrá lugar el 27 de marzo de 2026 a las 16:30 en el Aula 101 del Aulario 1 del Campus de Móstoles de la Universidad Rey Juan Carlos. Participarán 32 parejas en total\, divididas en 16 parejas senior y 16 parejas formadas por estudiantes de grado\, creando así un ambiente dinámico y enriquecedor donde diferentes generaciones podrán competir y disfrutar juntas del juego. \nLa participación es completamente gratuita. El plazo de inscripción se abrirá el 18 de marzo de 2026 a las 21:00 y estará disponible hasta el 25 de marzo de 2026 a las 00:00\, o hasta completar todas las plazas. \nLa persona que se inscribe tiene que pertenecer a la Asociación AMURJC pero la pareja no es necesario que pertenezca a AMURJC (ni tampoco a la URJC). \nDurante la actividad se ofrecerá un pequeño refrigerio para los participantes\, y además habrá premios para las parejas ganadoras\, para reconocer a quienes logren imponerse en la mesa. \nForma tu pareja\, afina tu estrategia y prepárate para cantar grande\, chica y órdago. ¡Te esperamos para vivir una gran tarde de mus!
URL:https://www.amurjc.org/actividades/torneo-de-mus-intergeneracional/
ATTACH;FMTTYPE=image/jpeg:https://www.amurjc.org/wp-content/uploads/2026/03/torneo-de-mus-intergeneracional.jpg
END:VEVENT
END:VCALENDAR