BEGIN:VCALENDAR
VERSION:2.0
PRODID:-//AMURJC - ECPv6.15.20//NONSGML v1.0//EN
CALSCALE:GREGORIAN
METHOD:PUBLISH
X-ORIGINAL-URL:https://www.amurjc.org
X-WR-CALDESC:Eventos para AMURJC
REFRESH-INTERVAL;VALUE=DURATION:PT1H
X-Robots-Tag:noindex
X-PUBLISHED-TTL:PT1H
BEGIN:VTIMEZONE
TZID:Europe/Madrid
BEGIN:DAYLIGHT
TZOFFSETFROM:+0100
TZOFFSETTO:+0200
TZNAME:CEST
DTSTART:20250330T010000
END:DAYLIGHT
BEGIN:STANDARD
TZOFFSETFROM:+0200
TZOFFSETTO:+0100
TZNAME:CET
DTSTART:20251026T010000
END:STANDARD
BEGIN:DAYLIGHT
TZOFFSETFROM:+0100
TZOFFSETTO:+0200
TZNAME:CEST
DTSTART:20260329T010000
END:DAYLIGHT
BEGIN:STANDARD
TZOFFSETFROM:+0200
TZOFFSETTO:+0100
TZNAME:CET
DTSTART:20261025T010000
END:STANDARD
BEGIN:DAYLIGHT
TZOFFSETFROM:+0100
TZOFFSETTO:+0200
TZNAME:CEST
DTSTART:20270328T010000
END:DAYLIGHT
BEGIN:STANDARD
TZOFFSETFROM:+0200
TZOFFSETTO:+0100
TZNAME:CET
DTSTART:20271031T010000
END:STANDARD
END:VTIMEZONE
BEGIN:VEVENT
DTSTART;TZID=Europe/Madrid:20260224T121500
DTEND;TZID=Europe/Madrid:20260224T150000
DTSTAMP:20260420T111514
CREATED:20260213T165800Z
LAST-MODIFIED:20260213T165800Z
UID:10835-1771935300-1771945200@www.amurjc.org
SUMMARY:Visita guiada al Museo de la ONCE
DESCRIPTION:El Museo Tifológico fue creado por la ONCE en 1992\, y se define como un museo para ver y tocar. Toma su nombre del termino griego typhlós\, que significa ciego. Actualmente es uno de los museos más accesibles del mundo\, buscando ser una experiencia de inclusión\, igualdad y acceso a la cultura para personas con discapacidad visual pero también para personas sin discapacidad.
URL:https://www.amurjc.org/actividades/visita-guiada-al-museo-de-la-once/
ATTACH;FMTTYPE=image/jpeg:https://www.amurjc.org/wp-content/uploads/2026/02/Museo_Tiflologico_de_Madrid_en_abril_de_2023_41.jpg
END:VEVENT
END:VCALENDAR