BEGIN:VCALENDAR
VERSION:2.0
PRODID:-//AMURJC - ECPv6.15.20//NONSGML v1.0//EN
CALSCALE:GREGORIAN
METHOD:PUBLISH
X-WR-CALNAME:AMURJC
X-ORIGINAL-URL:https://www.amurjc.org
X-WR-CALDESC:Eventos para AMURJC
REFRESH-INTERVAL;VALUE=DURATION:PT1H
X-Robots-Tag:noindex
X-PUBLISHED-TTL:PT1H
BEGIN:VTIMEZONE
TZID:Europe/Madrid
BEGIN:DAYLIGHT
TZOFFSETFROM:+0100
TZOFFSETTO:+0200
TZNAME:CEST
DTSTART:20240331T010000
END:DAYLIGHT
BEGIN:STANDARD
TZOFFSETFROM:+0200
TZOFFSETTO:+0100
TZNAME:CET
DTSTART:20241027T010000
END:STANDARD
BEGIN:DAYLIGHT
TZOFFSETFROM:+0100
TZOFFSETTO:+0200
TZNAME:CEST
DTSTART:20250330T010000
END:DAYLIGHT
BEGIN:STANDARD
TZOFFSETFROM:+0200
TZOFFSETTO:+0100
TZNAME:CET
DTSTART:20251026T010000
END:STANDARD
BEGIN:DAYLIGHT
TZOFFSETFROM:+0100
TZOFFSETTO:+0200
TZNAME:CEST
DTSTART:20260329T010000
END:DAYLIGHT
BEGIN:STANDARD
TZOFFSETFROM:+0200
TZOFFSETTO:+0100
TZNAME:CET
DTSTART:20261025T010000
END:STANDARD
END:VTIMEZONE
BEGIN:VEVENT
DTSTART;TZID=Europe/Madrid:20250526T110000
DTEND;TZID=Europe/Madrid:20250526T130000
DTSTAMP:20260421T105704
CREATED:20250407T102932Z
LAST-MODIFIED:20250508T124701Z
UID:10468-1748257200-1748264400@www.amurjc.org
SUMMARY:Interesante conferencia sobre la historia de Madrid a través de la música
DESCRIPTION:
URL:https://www.amurjc.org/actividades/interesante-conferencia-sobre-la-historia-de-madrid-a-traves-de-la-musica/
ATTACH;FMTTYPE=image/jpeg:https://www.amurjc.org/wp-content/uploads/2025/05/pexels-bertellifotografia-3321793.jpg
END:VEVENT
END:VCALENDAR