BEGIN:VCALENDAR
VERSION:2.0
PRODID:-//AMURJC - ECPv6.15.20//NONSGML v1.0//EN
CALSCALE:GREGORIAN
METHOD:PUBLISH
X-ORIGINAL-URL:https://www.amurjc.org
X-WR-CALDESC:Eventos para AMURJC
REFRESH-INTERVAL;VALUE=DURATION:PT1H
X-Robots-Tag:noindex
X-PUBLISHED-TTL:PT1H
BEGIN:VTIMEZONE
TZID:Europe/Madrid
BEGIN:DAYLIGHT
TZOFFSETFROM:+0100
TZOFFSETTO:+0200
TZNAME:CEST
DTSTART:20240331T010000
END:DAYLIGHT
BEGIN:STANDARD
TZOFFSETFROM:+0200
TZOFFSETTO:+0100
TZNAME:CET
DTSTART:20241027T010000
END:STANDARD
BEGIN:DAYLIGHT
TZOFFSETFROM:+0100
TZOFFSETTO:+0200
TZNAME:CEST
DTSTART:20250330T010000
END:DAYLIGHT
BEGIN:STANDARD
TZOFFSETFROM:+0200
TZOFFSETTO:+0100
TZNAME:CET
DTSTART:20251026T010000
END:STANDARD
BEGIN:DAYLIGHT
TZOFFSETFROM:+0100
TZOFFSETTO:+0200
TZNAME:CEST
DTSTART:20260329T010000
END:DAYLIGHT
BEGIN:STANDARD
TZOFFSETFROM:+0200
TZOFFSETTO:+0100
TZNAME:CET
DTSTART:20261025T010000
END:STANDARD
END:VTIMEZONE
BEGIN:VEVENT
DTSTART;TZID=Europe/Madrid:20250131T170000
DTEND;TZID=Europe/Madrid:20250131T190000
DTSTAMP:20260425T124239
CREATED:20250127T113713Z
LAST-MODIFIED:20250127T113713Z
UID:10305-1738342800-1738350000@www.amurjc.org
SUMMARY:Viaje al Pasado Industrial de Madrid: Visita a la Nave de Motores
DESCRIPTION:
URL:https://www.amurjc.org/actividades/viaje-al-pasado-industrial-de-madrid-visita-a-la-nave-de-motores/
ATTACH;FMTTYPE=image/jpeg:https://www.amurjc.org/wp-content/uploads/2025/01/nave-motores.jpg
END:VEVENT
END:VCALENDAR